BEGIN:VCALENDAR
VERSION:2.0
PRODID:-//wp-events-plugin.com//7.2.3.1//EN
BEGIN:VEVENT
UID:1@lotushawaii.org
DTSTART:20210311T220000Z
DTEND:20210312T003000Z
DTSTAMP:20210311T184505Z
URL:https://lotushawaii.org/events/mahashivratri-pooja/
SUMMARY:MAHASHIVRATRI POOJA
DESCRIPTION:March 11\, 2021 at noon - Temple premises on California Ave in 
 Wahiawa\n\nDr. Bhawuk will be performing this pooja and we would like to e
 ncourage individuals interested in providing abhishekam items to drop them
  off by the start of the pooja at 12 noon to avoid disappointment. We cont
 inue to encourage physical distancing with only 10 people at the temple at
  any given time but there is ample space around the temple by the sidewalk
  to accommodate visit to the temple.  Based on people willing to stagger t
 heir visit to the temple\, we will try and keep the pooja alankar until 5 
 PM that day for individuals or families to visit. Typically the main pooja
  will finish around 2-2.30 PM.  Om Namah Shivaya.
LOCATION:Shiva Temple\, 108\, California Ave\, Wahiawa\, Hawaii\, 96817\, W
 ahiawa\, United States
X-APPLE-STRUCTURED-LOCATION;VALUE=URI;X-ADDRESS=108\, California Ave\, Wahi
 awa\, Hawaii\, 96817\, Wahiawa\, United States;X-APPLE-RADIUS=100;X-TITLE=
 Shiva Temple:geo:0,0
END:VEVENT
END:VCALENDAR